BEGIN:VCALENDAR
VERSION:2.0
PRODID:-//ChamberMaster//Event Calendar 2.0//EN
METHOD:PUBLISH
X-PUBLISHED-TTL:P3D
REFRESH-INTERVAL:P3D
CALSCALE:GREGORIAN
BEGIN:VEVENT
DTSTART:20211016T140000Z
DTEND:20211016T190000Z
X-MICROSOFT-CDO-ALLDAYEVENT:FALSE
SUMMARY:Childersburg Parks and Rec
DESCRIPTION:4th Annual Pumpkin Festival \n\nJoin us for our 4th annual Pumpkin Festival! This year all vendors will be outside on the football field by the Rec Center. Vendors will be responsible for their own tables\, chairs\, and tents\, if needed.\n\nThis year we will add a car show to our festival\n\nFace painting\, food vendors\, craft vendors\, kids zone\, hayrides\, chili cook off and more!
X-ALT-DESC;FMTTYPE=text/html:4th Annual Pumpkin Festival&nbsp\;<br />\nJoin us for our 4th annual Pumpkin Festival! This year all vendors will be outside on the football field by the Rec Center. Vendors will be responsible for their own tables\, chairs\, and tents\, if needed.<br />\nThis year we will add a car show to our festival<br />\nFace painting\, food vendors\, craft vendors\, kids zone\, hayrides\, chili cook off and more!
LOCATION:300 First Street SE Childersburg\, AL 35044
UID:e.3137.251455
SEQUENCE:3
DTSTAMP:20260425T031428Z
URL:http://members.sylacaugachamber.com/events/details/childersburg-parks-and-rec-251455
END:VEVENT

END:VCALENDAR
