BEGIN:VCALENDAR
VERSION:2.0
PRODID:-//ChamberMaster//Event Calendar 2.0//EN
METHOD:PUBLISH
X-PUBLISHED-TTL:P3D
REFRESH-INTERVAL:P3D
CALSCALE:GREGORIAN
BEGIN:VEVENT
DTSTART:20240223T233000Z
DTEND:20240224T013000Z
X-MICROSOFT-CDO-ALLDAYEVENT:FALSE
SUMMARY:Basketball Shoot-out 2024
DESCRIPTION:The Sylacauga Parks and Recreation is hosting a Basketball Shoot-out at the J. Craig Smith Community Center Gymnasium on Friday\, February 23 at 5:30pm. There will be two different competitions: a skills competition and a 3-point competition for boys and girls ages 8-15. The skills competition\, a timed dribble\, pass\, shoot challenge\, will be divided into three age groups: 8-10\, 11-12\, 13-15. Each age group is also able to participate in the 3-point competition. Only 10 participants will be allowed in each age group\, so players are encouraged to sign up quickly before the slots fill up. Prizes will be awarded to the top two in each age group. Entry fee is $10. Parents can register their children online at Sylacauga.recdesk.com under the Special Events category. \n \n\nThe mission of the Sylacauga Parks and Recreation is to enhance the quality of life for the citizens of Sylacauga and surrounding areas by providing quality parks\, facilities\, activities\, programs\, and events.
X-ALT-DESC;FMTTYPE=text/html:<p><strong>&nbsp\;</strong><span style="background-color:transparent\; color:rgb(0\, 0\, 0)\; font-family:arial\,sans-serif\; font-size:12pt">The Sylacauga Parks and Recreation is hosting a Basketball Shoot-out at the J. Craig Smith Community Center Gymnasium on Friday\, February 23 at 5:30pm. There will be two different competitions: a skills competition and a 3-point competition for boys and girls ages 8-15. The skills competition\, a timed dribble\, pass\, shoot challenge\, will be divided into three age groups: 8-10\, 11-12\, 13-15. Each age group is also able to participate in the 3-point competition. Only 10 participants will be allowed in each age group\, so players are encouraged to sign up quickly before the slots fill up. Prizes will be awarded to the top two in each age group. Entry fee is $10. Parents can register their children online at Sylacauga.recdesk.com under the Special Events category.&nbsp\;</span></p>\n&nbsp\;\n\n<p><span style="background-color:transparent\; color:rgb(0\, 0\, 0)\; font-family:arial\,sans-serif\; font-size:12pt">The mission of the Sylacauga Parks and Recreation is to enhance the quality of life for the citizens of Sylacauga and surrounding areas by providing quality parks\, facilities\, activities\, programs\, and events.&nbsp\;</span></p>\n\n<div>&nbsp\;</div>\n
LOCATION:J. Craig Smith Community Center Gymnasium 2 West 8th Street Sylacauga\, AL 35150
UID:e.3137.252228
SEQUENCE:3
DTSTAMP:20260420T061314Z
URL:https://members.sylacaugachamber.com/events/details/basketball-shoot-out-2024-252228
END:VEVENT

END:VCALENDAR
