BEGIN:VCALENDAR
VERSION:2.0
PRODID:-//ChamberMaster//Event Calendar 2.0//EN
METHOD:PUBLISH
X-PUBLISHED-TTL:P3D
REFRESH-INTERVAL:P3D
CALSCALE:GREGORIAN
BEGIN:VEVENT
DTSTART:20260416T230000Z
DTEND:20260417T020000Z
X-MICROSOFT-CDO-ALLDAYEVENT:FALSE
SUMMARY:Celebrate Sylacauga Annual Dinner presented by Coosa Pines Federal Credit Union
DESCRIPTION:You're invited to join us for our favorite night of the year- The Celebrate Sylacauga Annual Dinner presented by Coosa Pines Federal Credit Union on April 16\, 2026.\n\n\n\nThis year's featured entertainment is: The Survey Game Show! We're bringing another all-new form of entertainment to this year's Celebrate Sylacauga Annual Dinner where the entire crowd participates and there are cash prizes!\n\n\n\nGrab your tables and tickets now before it's too late! This event usually sells out and you don't want to miss out!
X-ALT-DESC;FMTTYPE=text/html:<span style="color: rgb(8\, 8\, 9)\; font-family: system-ui\, -apple-system\, &quot\;system-ui&quot\;\, &quot\;.SFNSText-Regular&quot\;\, sans-serif\; font-size: 15px\; white-space-collapse: preserve\;">You&#39\;re invited to join us for our favorite night of the year- The Celebrate Sylacauga Annual Dinner presented by </span><span class="html-span xdj266r x14z9mp xat24cr x1lziwak xexx8yu xyri2b x18d9i69 x1c1uobl x1hl2dhg x16tdsg8 x1vvkbs" style="overflow-wrap: break-word\; margin-inline: 0px\; padding-inline: 0px\; padding-bottom: 0px\; margin-bottom: 0px\; margin-top: 0px\; padding-top: 0px\; font-family: system-ui\, -apple-system\, &quot\;system-ui&quot\;\, &quot\;.SFNSText-Regular&quot\;\, sans-serif\; color: rgb(8\, 8\, 9)\; font-size: 15px\; white-space-collapse: preserve\;"><a attributionsrc="/privacy_sandbox/comet/register/source/?xt=AZb5ItWP0ur4VNMUmUKWWoXFVQGh9MFjRTYYjn5ZCex4aCiKWTvCI5eHw8Gci7Sbtdj_eQc-wXg6L0WVEp6s7Gd5l_X9T51KhQ1mS1J3H7d3ah7E5mIu3Vvg8d01JafWoKGFbNqBt3YU8u6qvKdDANbeVdPwhiHYB_YhS_rFZbBs_ifi_FMHk9iFn5RF8I3JDYBUBdhrVsRicXdRH3N9t1QWjcU5N3IUFDI3Tg5VNRWX4YI0pZ8iAX-O4ji22yCFIyzhGzp7aN0hGl185lW25sQ2LTtVXFTADL7SY1lfnI8CxSNEFzVw3USDP9IeXPYH2bXtRtGHHIXVpxwrmiQPAchgThxuc3VGfYMSoUHy37l3ed99MYtNDywDTGqzh3e4qfFQshZoa5rkALxB7V3kX4hCb3tEurhd-0mJ236FpfIsq1miXhChPyUNAtLFis7Ia79Bb_lQi4m_uVb64YiS8-Vf7X3fdsi_9Xw-xCZZgmRdw19OfkPhgYn-BpMGobx1Clj0FgosT0zY9LGApmgWn-l_ihoflJ7loEFWltfnQsCZWamnr7qE52TZaSPEWmzBuu2dSZi-8Djowz7WlA1jnAUcYjjXRwmqKfu446-6CW4WSAds_wKz_w7IjffpGmyOdfMdZvHr6f3k737yvsXVq1YsC7pQxWFbU-ihGI0veJyRVNvKoXD5rrqPHtHlvhKtELyE9F0k8TA1I-b96cgIafCoOatbReiDmyDfdrMe7foEqkeVglzjeMp6bLN3aedJ34iRYq13EW7TEsyV9J-bTtyo8vXlUZYlwcICZDJz3mohlyJ_8jIEVHa_NXspLRmZrFLhVfcYISGlL_GLRlb8fxmOSY0-0Z0zXT20ozI1kW6KJbReV6ReKyw_upisqjUeaDgmH0mPNir4MZ1nFCnHK4k1wSH5msnFJe1hlfPhz49euP9i3sb6NxVYmhpQOXDWQ16mLFjlAWM70eqfbLFyIppo3uTmSuZbtCHl-ikPx6_9t4faN8FV5Uy_2RYJXV4OUlDEORmdi2F1ApS1NZMc1UOnrB_ECGcG_jSSH2PfKR70wgA7fMl2hLod6azWEKElWZ6vGgDttsv97sod6i0St1b4UBjN_ub_5NSfOIkkbir9OlYuH1PqZanS676ApfeY3VU1PVdK7bFXGx62uhwnVHIbkcgwZCVEDSTW-xDsjo7Lm4uw3jFOXJmR4wm-7mJruPpQCFI-hf-K9_8jwMMz-Dv2a4-TTHOcwN9vRQdd_oYrWONsiJhH_UaKqJB1jCy6UQ-phKvgn-vMw6Nu3W6zjMBSDzC01uy6qksd46ODS7yl0m8n7tCDPStxADy5dQHzYQXiTbHmM9Pl3bDTmDWgaIDx0zqtwjs_2Vh9i6fY4YJKmrlH_95L19iiBCvSNSGma8dZlLgxRJkuCg3UxsF2RX-CU5sOS9b65nU3fArqyRMzk8wy9t99Cl9moH8M-3gWNBeRJ43lcGp-wvDzA1TdJAUHsr8bKc1amXzPisYCUdVpevjSBEZ1NkYMKBYFWqkafGA0b-9jWlwUJSZOVW_tX4h_LD6UQmxWKc0793nB9KkUoU3nT4Ac4joFCsiw63s1YdeUO_oItXqoiobGaBcRj-miY38_X2byornUz4oK6dGOOazDUZt97TDKQ9-rSKOJRw3-Y1qZVQ3TyFUSULwu10drmf-azO772r3RAMZom5Od5Q" class="x1i10hfl xjbqb8w x1ejq31n x18oe1m7 x1sy0etr xstzfhl x972fbf x10w94by x1qhh985 x14e42zd x9f619 x1ypdohk xt0psk2 x3ct3a4 xdj266r x14z9mp xat24cr x1lziwak xexx8yu xyri2b x18d9i69 x1c1uobl x16tdsg8 x1hl2dhg xggy1nq x1a2a7pz xkrqix3 x1sur9pj x1fey0fg x1s688f" href="https://www.facebook.com/CoosaPinesFederalCU?__cft__[0]=AZYoq2ihKm3_bEgauP4id8izISfo_BpgbR3A9gedkG2YCV9hVUljAPCyXd1Iefyj5NrBztfQZjT_fzVfgLSRhDBPaoLql6i6kMD2EJtSIGCvSNx9xd_YD2vVqloUgXq4IBHu9NgioZgjdFfpGrYESEQ3EdqS0FY7WYYe_DwsaDACi5n6u-hnxaQDDkLBDORxDjGF0kMh0aqJKznp5ZKyljMl&amp\;__tn__=-]K-R" role="link" style="color: rgb(0\, 100\, 209)\; cursor: pointer\; text-decoration-line: none\; outline: none\; text-align: inherit\; font-weight: 600\; list-style-type: none\; box-sizing: border-box\; background-color: transparent\; display: inline\; -webkit-tap-highlight-color: transparent\; touch-action: manipulation\; border-inline-width: 0px\; margin-inline: 0px\; border-inline-style: none\; padding-inline: 0px\; padding-bottom: 0px\; border-top-style: none\; border-bottom-width: 0px\; border-bottom-style: none\; border-top-width: 0px\; margin-bottom: 0px\; margin-top: 0px\; padding-top: 0px\; font-family: inherit\;" tabindex="0"><span class="xt0psk2" style="display: inline\; font-family: inherit\;">Coosa Pines Federal Credit Union</span></a></span><span style="color: rgb(8\, 8\, 9)\; font-family: system-ui\, -apple-system\, &quot\;system-ui&quot\;\, &quot\;.SFNSText-Regular&quot\;\, sans-serif\; font-size: 15px\; white-space-collapse: preserve\;"> on April 16\, 2026.<br />\n<br />\nThis year&#39\;s featured entertainment is: The Survey Game Show! We&#39\;re bringing another all-new form of entertainment to this year&#39\;s Celebrate Sylacauga Annual Dinner where the entire crowd participates and there are cash prizes!<br />\n<br />\nGrab your tables and tickets now before it&#39\;s too late! This event usually sells out and you don&#39\;t want to miss out!</span><br />\n&nbsp\;
LOCATION:J. Craig Smith Community Center 2 West 8th Street Sylacauga\, AL 35150
UID:e.3137.252435
SEQUENCE:3
DTSTAMP:20260426T034500Z
URL:https://members.sylacaugachamber.com/events/details/celebrate-sylacauga-annual-dinner-presented-by-coosa-pines-federal-credit-union-252435
END:VEVENT

END:VCALENDAR
