BEGIN:VCALENDAR
VERSION:2.0
PRODID:-//ChamberMaster//Event Calendar 2.0//EN
METHOD:PUBLISH
X-PUBLISHED-TTL:P3D
REFRESH-INTERVAL:P3D
CALSCALE:GREGORIAN
BEGIN:VEVENT
DTSTART:20240314T133000Z
DTEND:20240314T143000Z
X-MICROSOFT-CDO-ALLDAYEVENT:FALSE
SUMMARY:Chamber Connections hosted by Coosa Pines FCU
DESCRIPTION:Join us for a Chamber Connections event hosted by Coosa Pines FCU
X-ALT-DESC;FMTTYPE=text/html:Join us for a Chamber Connections event hosted by Coosa Pines FCU
LOCATION:255 James B Payton Blvd Sylacauga\, AL 35150
UID:e.3137.252211
SEQUENCE:3
DTSTAMP:20260420T081512Z
URL:https://members.sylacaugachamber.com/events/details/chamber-connections-hosted-by-coosa-pines-fcu-252211
END:VEVENT

END:VCALENDAR
