BEGIN:VCALENDAR
VERSION:2.0
PRODID:-//ChamberMaster//Event Calendar 2.0//EN
METHOD:PUBLISH
X-PUBLISHED-TTL:P3D
REFRESH-INTERVAL:P3D
CALSCALE:GREGORIAN
BEGIN:VEVENT
DTSTART:20231116T143000Z
DTEND:20231116T153000Z
X-MICROSOFT-CDO-ALLDAYEVENT:FALSE
SUMMARY:Chamber Connections Hosted by Southern States
DESCRIPTION:Join us and give thanks for the season with Southern States Chamber Connections
X-ALT-DESC;FMTTYPE=text/html:Join us and give thanks for the season with Southern States Chamber Connections
LOCATION:101 W Ft Williams St Sylacauga\, AL 35150
UID:e.3137.252186
SEQUENCE:3
DTSTAMP:20260420T005055Z
URL:https://members.sylacaugachamber.com/events/details/chamber-connections-hosted-by-southern-states-252186
END:VEVENT

END:VCALENDAR
