BEGIN:VCALENDAR
VERSION:2.0
PRODID:-//ChamberMaster//Event Calendar 2.0//EN
METHOD:PUBLISH
X-PUBLISHED-TTL:P3D
REFRESH-INTERVAL:P3D
CALSCALE:GREGORIAN
BEGIN:VEVENT
DTSTART:20240215T143000Z
DTEND:20240215T153000Z
X-MICROSOFT-CDO-ALLDAYEVENT:FALSE
SUMMARY:Chamber Connections with Serra Automotive
DESCRIPTION:Join Cupid for a Chamber Connections event that everyone loves! \n\nHosted by Serra Automotive at their Ford Show Room
X-ALT-DESC;FMTTYPE=text/html:Join Cupid for a Chamber Connections event that everyone loves!&nbsp\;<br />\nHosted by Serra Automotive at their Ford Show Room
LOCATION:40905 US-280 Sylacauga\, AL
UID:e.3137.252210
SEQUENCE:3
DTSTAMP:20260420T075747Z
URL:https://members.sylacaugachamber.com/events/details/chamber-connections-with-serra-automotive-252210
END:VEVENT

END:VCALENDAR
