BEGIN:VCALENDAR
VERSION:2.0
PRODID:-//ChamberMaster//Event Calendar 2.0//EN
METHOD:PUBLISH
X-PUBLISHED-TTL:P3D
REFRESH-INTERVAL:P3D
CALSCALE:GREGORIAN
BEGIN:VEVENT
DTSTART:20240117T143000Z
DTEND:20240117T153000Z
X-MICROSOFT-CDO-ALLDAYEVENT:FALSE
SUMMARY:Chamber Member Breakfast
DESCRIPTION:The Sylacauga Chamber of Commerce is looking forward to starting off the year by celebrating its Members and Board with a breakfast welcoming new Board Members and celebrating the success of the 2023 year in review. Help us ring in the new year for the Chamber and the Community
X-ALT-DESC;FMTTYPE=text/html:The Sylacauga Chamber of Commerce is looking forward to starting off the year by celebrating its Members and Board with a breakfast welcoming new Board Members and celebrating the success of the 2023 year in review. Help us ring in the new year for the Chamber and the Community&nbsp\;
LOCATION:First Baptist Church 10 S. Broadway Ave Sylacauga\, AL
UID:e.3137.252148
SEQUENCE:3
DTSTAMP:20260420T042701Z
URL:https://members.sylacaugachamber.com/events/details/chamber-member-breakfast-252148
END:VEVENT

END:VCALENDAR
