BEGIN:VCALENDAR
VERSION:2.0
PRODID:-//ChamberMaster//Event Calendar 2.0//EN
METHOD:PUBLISH
X-PUBLISHED-TTL:P3D
REFRESH-INTERVAL:P3D
CALSCALE:GREGORIAN
BEGIN:VEVENT
DTSTART:20211204T150000Z
DTEND:20211204T220000Z
X-MICROSOFT-CDO-ALLDAYEVENT:FALSE
SUMMARY:Christmas Market
DESCRIPTION:The Christmas Market will be held at Central Park with weather permitting. Booth space and fee information will be available soon.\n\nFood trucks\, live music and performances\, gift wrapping\, shopping\, AND a Christmas movie at night! Let the kids play while you shop: inflatable slide\, ornament decorating\, cookie decorating\, face painting\, and the inflatable snow globe!\n\nMarket Hours: 9:00 am - 4:00 pm\n\nFood Trucks: 10 am - 6pm\n\nTree Lighting: 5:30 pm\n\nChristmas Movie: 6:00 pm
X-ALT-DESC;FMTTYPE=text/html:<p style="box-sizing: border-box\; margin: 10px\; padding-top: 35px\; font-size: 18px\; color: rgb(5\, 0\, 0)\; font-family: &quot\;Open Sans&quot\;\, sans-serif\; background-color: rgb(255\, 255\, 255)\; padding-left: 0px !important\;">The Christmas Market will be held at Central Park with weather permitting. Booth space and fee information will be available soon.</p>\n\n<p style="box-sizing: border-box\; margin: 10px\; padding-top: 35px\; font-size: 18px\; color: rgb(5\, 0\, 0)\; font-family: &quot\;Open Sans&quot\;\, sans-serif\; background-color: rgb(255\, 255\, 255)\; padding-left: 0px !important\;">Food trucks\, live music and performances\, gift wrapping\, shopping\, AND a Christmas movie at night! Let the kids play while you shop: inflatable slide\, ornament decorating\, cookie decorating\, face painting\, and the inflatable snow globe!</p>\n\n<p style="box-sizing: border-box\; margin: 10px\; padding-top: 35px\; font-size: 18px\; color: rgb(5\, 0\, 0)\; font-family: &quot\;Open Sans&quot\;\, sans-serif\; background-color: rgb(255\, 255\, 255)\; padding-left: 0px !important\;">Market Hours: 9:00 am - 4:00 pm<br style="box-sizing: border-box\;" />\nFood Trucks: 10 am - 6pm<br style="box-sizing: border-box\;" />\nTree Lighting: 5:30 pm<br style="box-sizing: border-box\;" />\nChristmas Movie: 6:00 pm</p>\n
LOCATION:Central Park
UID:e.3137.251462
SEQUENCE:3
DTSTAMP:20260423T175158Z
URL:https://members.sylacaugachamber.com/events/details/christmas-market-251462
END:VEVENT

END:VCALENDAR
