BEGIN:VCALENDAR
VERSION:2.0
PRODID:-//ChamberMaster//Event Calendar 2.0//EN
METHOD:PUBLISH
X-PUBLISHED-TTL:P3D
REFRESH-INTERVAL:P3D
CALSCALE:GREGORIAN
BEGIN:VEVENT
DTSTART:20231209T170000Z
DTEND:20231211T000000Z
X-MICROSOFT-CDO-ALLDAYEVENT:FALSE
SUMMARY:Christmas Market at Hamilton Place
DESCRIPTION:Journey to Pursell Farms this Christmas season to find the perfect gift! We will have over 30+ vendors setting up shop in the Hamilton Place Ballroom for both Saturday and Sunday. Delectable seasonal refreshments will also be on hand for guests\, as well as other various seasonal goodies & activities.
X-ALT-DESC;FMTTYPE=text/html:<span style="font-family: Apercu\; font-size: 16px\; text-align: center\; background-color: rgb(255\, 255\, 255)\;">Journey to Pursell Farms this Christmas season to find the perfect gift! We will have over 30+ vendors setting up shop in the Hamilton Place Ballroom for both Saturday and Sunday. Delectable seasonal refreshments will also be on hand for guests\, as well as other various seasonal goodies &amp\; activities.&nbsp\;</span>
LOCATION:Hamilton Place at Pursell Farms 1971 Marble Valley Rd Sylacauga\, AL 35151
UID:e.3137.252114
SEQUENCE:3
DTSTAMP:20260420T025452Z
URL:https://members.sylacaugachamber.com/events/details/christmas-market-at-hamilton-place-252114
END:VEVENT

END:VCALENDAR
