BEGIN:VCALENDAR
VERSION:2.0
PRODID:-//ChamberMaster//Event Calendar 2.0//EN
METHOD:PUBLISH
X-PUBLISHED-TTL:P3D
REFRESH-INTERVAL:P3D
CALSCALE:GREGORIAN
BEGIN:VEVENT
DTSTART:20231105T190000Z
DTEND:20231105T230000Z
X-MICROSOFT-CDO-ALLDAYEVENT:FALSE
SUMMARY:Christmas Open House
DESCRIPTION:Join the Sylacauga Chamber of Commerce and Downtown Merchants for our 2023 Christmas Open House\n\nKick off the holiday shopping season in Downtown Sylacauga during Christmas Open House. \n\nGrab your shopping buddy and get started on your Christmas list! For every $25 you spend at these participating locations\, you will be entered to win $250 in Chamber Bucks\, which can be spent at any participating Chamber Member locations! Thank you to our Chamber Member businesses for helping make this event so special and wonderful each year!
X-ALT-DESC;FMTTYPE=text/html:<span style="font-size:16px\;"><span style="font-family:times new roman\;"><span style="color: rgb(51\, 51\, 51)\; background-color: rgb(255\, 255\, 255)\;">Join the Sylacauga Chamber of Commerce and Downtown Merchants for our 2023 Christmas Open House</span><br style="color: rgb(51\, 51\, 51)\; font-family: sans-serif\, Arial\, Verdana\, &quot\;Trebuchet MS&quot\;\; font-size: 13px\; background-color: rgb(255\, 255\, 255)\;" />\n<span style="color: rgb(51\, 51\, 51)\; background-color: rgb(255\, 255\, 255)\;">Kick off the holiday shopping season in Downtown Sylacauga during Christmas Open House.&nbsp\;</span><br />\n<span style="color: rgb(5\, 5\, 5)\; white-space-collapse: preserve\; background-color: rgb(255\, 255\, 255)\;">Grab your shopping buddy and get started on your Christmas list! For every $25 you spend at these participating locations\, you will be entered to win $250 in Chamber Bucks\, which can be spent at any participating Chamber Member locations! Thank you to our Chamber Member businesses for helping make this </span><span style="color: rgb(5\, 5\, 5)\; white-space-collapse: preserve\; background-color: rgb(255\, 255\, 255)\;"></span><span style="color: rgb(5\, 5\, 5)\; white-space-collapse: preserve\; background-color: rgb(255\, 255\, 255)\;">event so special and wonderful each year!</span></span></span>
LOCATION:Downtown Sylacauga on Broadway and Norton
UID:e.3137.252147
SEQUENCE:3
DTSTAMP:20260420T022629Z
URL:https://members.sylacaugachamber.com/events/details/christmas-open-house-252147
END:VEVENT

END:VCALENDAR
