BEGIN:VCALENDAR
VERSION:2.0
PRODID:-//ChamberMaster//Event Calendar 2.0//EN
METHOD:PUBLISH
X-PUBLISHED-TTL:P3D
REFRESH-INTERVAL:P3D
CALSCALE:GREGORIAN
BEGIN:VEVENT
DTSTART:20211210T000000Z
DTEND:20211210T010000Z
X-MICROSOFT-CDO-ALLDAYEVENT:FALSE
SUMMARY:Christmas Parade
DESCRIPTION:Celebrate Sylacauga's favorite Christmas event: The Sylacauga Christmas Parade! Line the streets of Downtown Sylacauga to see floats from our local businesses and organizations\, marching bands\, and of course\, Santa Claus! Parade begins at 6 pm.
X-ALT-DESC;FMTTYPE=text/html:<span style="color: rgb(5\, 0\, 0)\; font-family: &quot\;Open Sans&quot\;\, sans-serif\; font-size: 18px\; background-color: rgb(255\, 255\, 255)\;">Celebrate Sylacauga&#39\;s favorite Christmas event: The Sylacauga Christmas Parade! Line the streets of Downtown Sylacauga to see floats from our local businesses and organizations\, marching bands\, and of course\, Santa Claus! Parade begins at 6 pm.</span>
LOCATION:
UID:e.3137.251464
SEQUENCE:3
DTSTAMP:20260423T215140Z
URL:https://members.sylacaugachamber.com/events/details/christmas-parade-251464
END:VEVENT

END:VCALENDAR
