BEGIN:VCALENDAR
VERSION:2.0
PRODID:-//ChamberMaster//Event Calendar 2.0//EN
METHOD:PUBLISH
X-PUBLISHED-TTL:P3D
REFRESH-INTERVAL:P3D
CALSCALE:GREGORIAN
BEGIN:VEVENT
DTSTART:20231201T230000Z
DTEND:20231202T040000Z
X-MICROSOFT-CDO-ALLDAYEVENT:FALSE
SUMMARY:Christmas Takeover
DESCRIPTION:Our Christmas Takeover is filled with fun and laughter throughout the month. We kickoff the month with our specialized Christmas menu that will last until Jan5th and filled up with out Twelfth Night celebration. Follow us on Facebook for all the events that will take place during our holiday celebration with our Christmas Takeover If you joined us last year\, you know the cocktails and fun were awesome. We ask that you join us again. If you've never been in\, this is the time to come see our lounge transformation into Christmas happiness with decorations everywhere. Thank you for your support and we look forward seeing you.
X-ALT-DESC;FMTTYPE=text/html:Our Christmas Takeover is filled with fun and laughter throughout the month. We kickoff the month with our specialized Christmas menu that will last until Jan5th and filled up with out Twelfth Night celebration. Follow us on Facebook for all the events that will take place during our holiday celebration with our Christmas Takeover If you joined us last year\, you know the cocktails and fun were awesome. We ask that you join us again. If you&rsquo\;ve never been in\, this is the time to come see our lounge transformation into Christmas happiness with decorations everywhere. Thank you for your support and we look forward seeing you.
LOCATION:Bourbon on Broadway 112 N Broadway Ave Sylacauga\, AL 35150
UID:e.3137.252184
SEQUENCE:3
DTSTAMP:20260420T044215Z
URL:https://members.sylacaugachamber.com/events/details/christmas-takeover-252184
END:VEVENT

END:VCALENDAR
