BEGIN:VCALENDAR
VERSION:2.0
PRODID:-//ChamberMaster//Event Calendar 2.0//EN
METHOD:PUBLISH
X-PUBLISHED-TTL:P3D
REFRESH-INTERVAL:P3D
CALSCALE:GREGORIAN
BEGIN:VEVENT
DTSTART:20231219T003000Z
DTEND:20231219T020000Z
X-MICROSOFT-CDO-ALLDAYEVENT:FALSE
SUMMARY:Christmas with Friends
DESCRIPTION:A benefit concert for Care House. Join us for an evening of fun Christmas songs\, beautiful carols and the telling of the Nativity Story. We are a group of old friends\, with a few new ones mixed in\, who have been singing together for over 30 years! We live in Sylacauga\, Alex CIty\, Wetumpka and surrounding areas This is our third year to present our Christmas concert. We will perform in Wetumpka on December 11th\, Alex City on December 14th and in Sylacauga on Dececmber 18 at First Baptist Church. Each concert begins at 6:30 p.m. We hope to raise lots of money for our chosen charities. In Sylacauga the money raised will go to Care House.
X-ALT-DESC;FMTTYPE=text/html:A benefit concert for Care House. Join us for an evening of fun Christmas songs\, beautiful carols and the telling of the Nativity Story. We are a group of old friends\, with a few new ones mixed in\, who have been singing together for over 30 years! We live in Sylacauga\, Alex CIty\, Wetumpka and surrounding areas This is our third year to present our Christmas concert. We will perform in Wetumpka on December 11th\, Alex City on December 14th and in Sylacauga on Dececmber 18 at First Baptist Church. Each concert begins at 6:30 p.m. We hope to raise lots of money for our chosen charities. In Sylacauga the money raised will go to Care House.
LOCATION:First Baptist Church\, Sylacauga
UID:e.3137.252183
SEQUENCE:3
DTSTAMP:20260420T044215Z
URL:https://members.sylacaugachamber.com/events/details/christmas-with-friends-12-18-2023-252183
END:VEVENT

END:VCALENDAR
