BEGIN:VCALENDAR
VERSION:2.0
PRODID:-//ChamberMaster//Event Calendar 2.0//EN
METHOD:PUBLISH
X-PUBLISHED-TTL:P3D
REFRESH-INTERVAL:P3D
CALSCALE:GREGORIAN
BEGIN:VEVENT
DTSTART:20231119T230000Z
DTEND:20231120T000000Z
X-MICROSOFT-CDO-ALLDAYEVENT:FALSE
SUMMARY:Community Thanksgiving Service
DESCRIPTION:Coosa Valley Ministerial Association invites you to join in the Thanksgiving festivities as they celebrate the occasion with a Community Thanksgiving Service. Hosted at reaching the World Bible Church and Rev. Andy Curtis with First United Methodist will be bringing the sermon.
X-ALT-DESC;FMTTYPE=text/html:Coosa Valley Ministerial Association invites you to join in the Thanksgiving festivities as they celebrate the occasion with a Community Thanksgiving Service. Hosted at reaching the World Bible Church and Rev. Andy Curtis with First United Methodist will be bringing the sermon.
LOCATION:Reaching the World Bible Church 109 N. Cannon Avenue Sylacauga\, AL
UID:e.3137.252178
SEQUENCE:3
DTSTAMP:20260420T004625Z
URL:https://members.sylacaugachamber.com/events/details/community-thanksgiving-service-252178
END:VEVENT

END:VCALENDAR
