BEGIN:VCALENDAR
VERSION:2.0
PRODID:-//ChamberMaster//Event Calendar 2.0//EN
METHOD:PUBLISH
X-PUBLISHED-TTL:P3D
REFRESH-INTERVAL:P3D
CALSCALE:GREGORIAN
BEGIN:VEVENT
DTSTART:20231220T000000Z
DTEND:20231220T010000Z
X-MICROSOFT-CDO-ALLDAYEVENT:FALSE
SUMMARY:Concert & Cookies with Santa & Cinderella
DESCRIPTION:The Sylacauga Parks and Recreation is partnering with Santa Magic Studios to present Concert and Cookies with Santa and Cinderella at the J. Craig Smith Community Center on Tuesday\, December19 at 6:00 pm. Children will enjoy a concert performed by princess Cinderella and the big man himself followed by a sing-a-long with Santa Claus. Santa will close out the performance with story time. Following the performance\, children will be invited to visit and take pictures with Santa on stage where they will receive their cookies and goodie bag. Children are also welcome to visit and take pictures with Cinderella. The cost to\n\nattend is $10 per child. There is no cost for adults. Reservations can be made online at Sylacauga.recdesk.com.
X-ALT-DESC;FMTTYPE=text/html:The Sylacauga Parks and Recreation is partnering with Santa Magic Studios to present Concert and Cookies with Santa and Cinderella at the J. Craig Smith Community Center on Tuesday\, December19 at 6:00 pm. Children will enjoy a concert performed by princess Cinderella and the big man himself followed by a sing-a-long with Santa Claus. Santa will close out the performance with story time. Following the performance\, children will be invited to visit and take pictures with Santa on stage where they will receive their cookies and goodie bag. Children are also welcome to visit and take pictures with Cinderella. The cost to<br />\nattend is $10 per child. There is no cost for adults. Reservations can be made online at Sylacauga.recdesk.com.
LOCATION:J. Craig Smith Community Center
UID:e.3137.252196
SEQUENCE:3
DTSTAMP:20260420T043906Z
URL:https://members.sylacaugachamber.com/events/details/concert-cookies-with-santa-cinderella-252196
END:VEVENT

END:VCALENDAR
