BEGIN:VCALENDAR
VERSION:2.0
PRODID:-//ChamberMaster//Event Calendar 2.0//EN
METHOD:PUBLISH
X-PUBLISHED-TTL:P3D
REFRESH-INTERVAL:P3D
CALSCALE:GREGORIAN
BEGIN:VEVENT
DTSTART:20231117T000000Z
DTEND:20231117T020000Z
X-MICROSOFT-CDO-ALLDAYEVENT:FALSE
SUMMARY:Coosa Valley Resources for Women Annual Fundraising Dinner
DESCRIPTION:Guest Speaker: Sara Bible\, Christian and Pro-Life speaker\n\nThis annual fundraising dinner supports the efforts of our local pregnancy crisis center\, where we provide free pregnancy tests\, limited ultrasounds\, counseling\, free parenting classes where parents can earn baby bucks to spend in our Baby Boutique for necessary items\, and much more. Our center relies solely on donations\, so please join us for a night of encouragement and celebration of LIFE!
X-ALT-DESC;FMTTYPE=text/html:Guest Speaker: Sara Bible\, Christian and Pro-Life speaker<br />\nThis annual fundraising dinner supports the efforts of our local pregnancy crisis center\, where we provide free pregnancy tests\, limited ultrasounds\, counseling\, free parenting classes where parents can earn baby bucks to spend in our Baby Boutique for necessary items\, and much more. Our center relies solely on donations\, so please join us for a night of encouragement and celebration of LIFE!&nbsp\;&nbsp\;&nbsp\;&nbsp\;
LOCATION:First Baptist Church of Oak Grove 40190 US Highway 280\, Sylacauga\, AL
UID:e.3137.252119
SEQUENCE:3
DTSTAMP:20260420T005338Z
URL:https://members.sylacaugachamber.com/events/details/coosa-valley-resources-for-women-annual-fundraising-dinner-252119
END:VEVENT

END:VCALENDAR
