BEGIN:VCALENDAR
VERSION:2.0
PRODID:-//ChamberMaster//Event Calendar 2.0//EN
METHOD:PUBLISH
X-PUBLISHED-TTL:P3D
REFRESH-INTERVAL:P3D
CALSCALE:GREGORIAN
BEGIN:VEVENT
DTSTART:20260423T133000Z
DTEND:20260423T143000Z
X-MICROSOFT-CDO-ALLDAYEVENT:FALSE
SUMMARY:CVMC's New Vision Celebration
DESCRIPTION:10 years. Countless lives impacted. ?? Join us as we mark 10 years of New Vision Withdrawal Management serving our community with care\, compassion\, and support. Stop by\, connect with others in the community\, and enjoy light refreshments as we honor this important milestone. We'd love to celebrate with you!
X-ALT-DESC;FMTTYPE=text/html:10 years. Countless lives impacted. ?? Join us as we mark 10 years of New Vision Withdrawal Management serving our community with care\, compassion\, and support. Stop by\, connect with others in the community\, and enjoy light refreshments as we honor this important milestone. We&rsquo\;d love to celebrate with you!
LOCATION:Coosa Valley Medical Center | Main Lobby 315 W. Hickory Street Sylacauga\, AL 35150
UID:e.3137.252650
SEQUENCE:3
DTSTAMP:20260421T201805Z
URL:https://members.sylacaugachamber.com/events/details/cvmc-s-new-vision-celebration-252650
END:VEVENT

END:VCALENDAR
