BEGIN:VCALENDAR
VERSION:2.0
PRODID:-//ChamberMaster//Event Calendar 2.0//EN
METHOD:PUBLISH
X-PUBLISHED-TTL:P3D
REFRESH-INTERVAL:P3D
CALSCALE:GREGORIAN
BEGIN:VEVENT
DTSTART:20240501T140000Z
DTEND:20240501T150000Z
X-MICROSOFT-CDO-ALLDAYEVENT:FALSE
SUMMARY:DIY Marketing: Social Media Content Creation
DESCRIPTION:Ready to revolutionize your social media strategy? Join us for our DIY Marketing Workshop and learn how to create a social media content calendar! Gain invaluable insights into planning\, scheduling\, and optimizing your content for maximum impact. Whether you're a seasoned marketer or just starting out\, this workshop will help you streamline your efforts and increase your online presence. Don't miss this opportunity to take control of your social media game! Reserve your spot now!
X-ALT-DESC;FMTTYPE=text/html:<span style="color: rgb(13\, 13\, 13)\; font-family: Söhne\, ui-sans-serif\, system-ui\, -apple-system\, &quot\;Segoe UI&quot\;\, Roboto\, Ubuntu\, Cantarell\, &quot\;Noto Sans&quot\;\, sans-serif\, &quot\;Helvetica Neue&quot\;\, Arial\, &quot\;Apple Color Emoji&quot\;\, &quot\;Segoe UI Emoji&quot\;\, &quot\;Segoe UI Symbol&quot\;\, &quot\;Noto Color Emoji&quot\;\; font-size: 16px\; white-space-collapse: preserve\;">Ready to revolutionize your social media strategy? Join us for our DIY Marketing Workshop and learn how to create a social media content calendar! Gain invaluable insights into planning\, scheduling\, and optimizing your content for maximum impact. Whether you&#39\;re a seasoned marketer or just starting out\, this workshop will help you streamline your efforts and increase your online presence. Don&#39\;t miss this opportunity to take control of your social media game! Reserve your spot now! </span>
LOCATION:Sylacauga Chamber of Commerce 17 West Fort Williams Street Sylacauga\, AL 35150
UID:e.3137.252250
SEQUENCE:3
DTSTAMP:20260421T080303Z
URL:https://members.sylacaugachamber.com/events/details/diy-marketing-social-media-content-creation-252250
END:VEVENT

END:VCALENDAR
