BEGIN:VCALENDAR
VERSION:2.0
PRODID:-//ChamberMaster//Event Calendar 2.0//EN
METHOD:PUBLISH
X-PUBLISHED-TTL:P3D
REFRESH-INTERVAL:P3D
CALSCALE:GREGORIAN
BEGIN:VEVENT
DTSTART:20240330T150000Z
DTEND:20240330T160000Z
X-MICROSOFT-CDO-ALLDAYEVENT:FALSE
SUMMARY:Easter Egg Hunt
DESCRIPTION:First Baptist Church Easter Egg Hunt
X-ALT-DESC;FMTTYPE=text/html:First Baptist Church Easter Egg Hunt
LOCATION:First Baptist Church 10 South Broadway Ave Sylacauga\, AL
UID:e.3137.252258
SEQUENCE:3
DTSTAMP:20260420T093803Z
URL:https://members.sylacaugachamber.com/events/details/easter-egg-hunt-252258
END:VEVENT

END:VCALENDAR
