BEGIN:VCALENDAR
VERSION:2.0
PRODID:-//ChamberMaster//Event Calendar 2.0//EN
METHOD:PUBLISH
X-PUBLISHED-TTL:P3D
REFRESH-INTERVAL:P3D
CALSCALE:GREGORIAN
BEGIN:VEVENT
DTSTART:20240323T150000Z
DTEND:20240323T170000Z
X-MICROSOFT-CDO-ALLDAYEVENT:FALSE
SUMMARY:Easter Egg Hunt & Bunny Brunch
DESCRIPTION:On the morning of Saturday\, March 23\, we will host a traditional egg hunt in Fairmont Park for children ages 1-6. The children will be split into two age groups and be given different areas of the park to hunt. The Easter Bunny will be there to meet-n-greet and take pictures with the kids\, and we will have Cuppa Grace will be there with coffee and pastries. The hunt will begin at 10 AM. (Fairmont park is located in Fairmont neighborhood at 3315 Livingston Trace\, Sylacauga\, AL 35150.)
X-ALT-DESC;FMTTYPE=text/html:<span style="background-color:transparent\; color:rgb(0\, 0\, 0)\; font-family:arial\,sans-serif\; font-size:11.5pt">On the morning of Saturday\, March 23\, we will host a traditional egg hunt in Fairmont Park for children ages 1-6. The children will be split into two age groups and be given different areas of the park to hunt. The Easter Bunny will be there to meet-n-greet and take pictures with the kids\, and we will have Cuppa Grace will be there with coffee and pastries. The hunt will begin at 10 AM. (Fairmont park is located in Fairmont neighborhood at 3315 Livingston Trace\, Sylacauga\, AL 35150.)</span>
LOCATION:Fairmont Park 3315 Livingston Trace\, Sylacauga\, AL 35150
UID:e.3137.252233
SEQUENCE:3
DTSTAMP:20260420T080658Z
URL:https://members.sylacaugachamber.com/events/details/easter-egg-hunt-bunny-brunch-252233
END:VEVENT

END:VCALENDAR
