BEGIN:VCALENDAR
VERSION:2.0
PRODID:-//ChamberMaster//Event Calendar 2.0//EN
METHOD:PUBLISH
X-PUBLISHED-TTL:P3D
REFRESH-INTERVAL:P3D
CALSCALE:GREGORIAN
BEGIN:VEVENT
DTSTART:20240329T180000Z
DTEND:20240329T220000Z
X-MICROSOFT-CDO-ALLDAYEVENT:FALSE
SUMMARY:Easter Extravaganza
DESCRIPTION:Free to the public
X-ALT-DESC;FMTTYPE=text/html:Free to the public&nbsp\;&nbsp\;&nbsp\;&nbsp\;&nbsp\;&nbsp\;&nbsp\;&nbsp\;
LOCATION:41226 Hwy 280 Sylacauga\, AL
UID:e.3137.252254
SEQUENCE:3
DTSTAMP:20260420T093859Z
URL:https://members.sylacaugachamber.com/events/details/easter-extravaganza-252254
END:VEVENT

END:VCALENDAR
