BEGIN:VCALENDAR
VERSION:2.0
PRODID:-//ChamberMaster//Event Calendar 2.0//EN
METHOD:PUBLISH
X-PUBLISHED-TTL:P3D
REFRESH-INTERVAL:P3D
CALSCALE:GREGORIAN
BEGIN:VEVENT
DTSTART:20240313T180000Z
DTEND:20240313T220000Z
X-MICROSOFT-CDO-ALLDAYEVENT:FALSE
SUMMARY:Easter Extravaganza with Advance America
DESCRIPTION:FREE TO THE PUBLIC\n\nEaster egg hunt\, pictures with CJ the Rabbit\, games\, door prizes\, crafts\, hot dogs\, Fun for the whole family presented by Advance America!
X-ALT-DESC;FMTTYPE=text/html:FREE TO THE PUBLIC<br />\nEaster egg hunt\, pictures with CJ the Rabbit\, games\, door prizes\, crafts\, hot dogs\, Fun for the whole family presented by Advance America!
LOCATION:Advance America 41226 Hwy 280 Sylacauga
UID:e.3137.252247
SEQUENCE:3
DTSTAMP:20260420T094057Z
URL:https://members.sylacaugachamber.com/events/details/easter-extravaganza-with-advance-america-252247
END:VEVENT

END:VCALENDAR
