BEGIN:VCALENDAR
VERSION:2.0
PRODID:-//ChamberMaster//Event Calendar 2.0//EN
METHOD:PUBLISH
X-PUBLISHED-TTL:P3D
REFRESH-INTERVAL:P3D
CALSCALE:GREGORIAN
BEGIN:VEVENT
DTSTART:20240301T233000Z
DTEND:20240302T020000Z
X-MICROSOFT-CDO-ALLDAYEVENT:FALSE
SUMMARY:First Friday on Flagg
DESCRIPTION:First Friday on Flagg Mountain is Back!!!! Join us this Friday\, March 1st\, for the 1st Chili cook-off and First Friday Fellowship. We will be setting up near the fire ring for a bon-fire and the chili-cookoff. Bring your friends\, a side dish to complement all the yummy chili\, your favorite Chili to share\, and possibly win a certificate (and maybe other prizes) as well as bragging rights for 1 year!!!! (no registration necessary\, no entry fee)
X-ALT-DESC;FMTTYPE=text/html:First Friday on Flagg Mountain is Back!!!! Join us this Friday\, March 1st\, for the 1st Chili cook-off and First Friday Fellowship. We will be setting up near the fire ring for a bon-fire and the chili-cookoff. Bring your friends\, a side dish to complement all the yummy chili\, your favorite Chili to share\, and possibly win a certificate (and maybe other prizes) as well as bragging rights for 1 year!!!! (no registration necessary\, no entry fee)
LOCATION:Flagg Mountain\, Weogufka
UID:e.3137.252238
SEQUENCE:3
DTSTAMP:20260420T094235Z
URL:https://members.sylacaugachamber.com/events/details/first-friday-on-flagg-03-01-2024-252238
END:VEVENT

END:VCALENDAR
