BEGIN:VCALENDAR
VERSION:2.0
PRODID:-//ChamberMaster//Event Calendar 2.0//EN
METHOD:PUBLISH
X-PUBLISHED-TTL:P3D
REFRESH-INTERVAL:P3D
CALSCALE:GREGORIAN
BEGIN:VEVENT
DTSTART:20240309T013000Z
DTEND:20240309T020000Z
X-MICROSOFT-CDO-ALLDAYEVENT:FALSE
SUMMARY:Flashlight Easter Egg Hunt
DESCRIPTION:On the evening of Friday\, March 22\, children ages 7-10 are invited to participate in our flashlight egg hunt at Noble Park. Children should bring their own flashlights and easter baskets and search for eggs in the dark! The hunt will begin at 7:30 PM.
X-ALT-DESC;FMTTYPE=text/html:<span style="background-color:transparent\; color:rgb(0\, 0\, 0)\; font-family:arial\,sans-serif\; font-size:11.5pt">On the evening of Friday\, March 22\, children ages 7-10 are invited to participate in our flashlight egg hunt at Noble Park. Children should bring their own flashlights and easter baskets and search for eggs in the dark! The hunt will begin at 7:30 PM. </span>
LOCATION:Noble Park (across from Jack's) 101 E. 10th Street\, Sylacauga\, AL 35150
UID:e.3137.252232
SEQUENCE:3
DTSTAMP:20260420T075723Z
URL:https://members.sylacaugachamber.com/events/details/flashlight-easter-egg-hunt-252232
END:VEVENT

END:VCALENDAR
