BEGIN:VCALENDAR
VERSION:2.0
PRODID:-//ChamberMaster//Event Calendar 2.0//EN
METHOD:PUBLISH
X-PUBLISHED-TTL:P3D
REFRESH-INTERVAL:P3D
CALSCALE:GREGORIAN
BEGIN:VEVENT
DTSTART:20240210T000000Z
DTEND:20240210T020000Z
X-MICROSOFT-CDO-ALLDAYEVENT:FALSE
SUMMARY:FREE Family Game Night
DESCRIPTION:The Sylacauga Parks and Recreation is hosting a Family Game Night at the J. Craig Smith Community Center Gym on Friday\, February 9 from 6-8pm. Residents of Sylacauga and surrounding areas are invited to attend this FREE event. There will be bouncee houses\, over 20 different game stations\, music\, and loads of fun! Games are appropriate for all ages and include basketball\, ping pong\, bowling\, moving target shoot\, corn hole and much more. Brown Butter Bakery will also be there with some sweet treats available for purchase. Families are encouraged to attend together as children must be accompanied by an adult.\n \n\nThe mission of the Sylacauga Parks and Recreation is to enhance the quality of life for the citizens of Sylacauga and surrounding areas by providing quality parks\, facilities\, activities\, programs\, and events.
X-ALT-DESC;FMTTYPE=text/html:<p><span style="background-color:transparent\; color:rgb(0\, 0\, 0)\; font-family:arial\,sans-serif\; font-size:12pt">The Sylacauga Parks and Recreation is hosting a Family Game Night at the J. Craig Smith Community Center Gym on Friday\, February 9 from 6-8pm. Residents of Sylacauga and surrounding areas are invited to attend this FREE event. There will be bouncee houses\, over 20 different game stations\, music\, and loads of fun! Games are appropriate for all ages and include basketball\, ping pong\, bowling\, moving target shoot\, corn hole and much more. Brown Butter Bakery will also be there with some sweet treats available for purchase. Families are encouraged to attend together as children must be accompanied by an adult.</span></p>\n&nbsp\;\n\n<p><span style="background-color:transparent\; color:rgb(0\, 0\, 0)\; font-family:arial\,sans-serif\; font-size:12pt">The mission of the Sylacauga Parks and Recreation is to enhance the quality of life for the citizens of Sylacauga and surrounding areas by providing quality parks\, facilities\, activities\, programs\, and events.&nbsp\;</span></p>\n
LOCATION:J. Craig Smith Community Center 2 West 8th Street\, Sylacauga\, AL 35150
UID:e.3137.252227
SEQUENCE:3
DTSTAMP:20260420T061648Z
URL:https://members.sylacaugachamber.com/events/details/free-family-game-night-02-09-2024-252227
END:VEVENT

END:VCALENDAR
