BEGIN:VCALENDAR
VERSION:2.0
PRODID:-//ChamberMaster//Event Calendar 2.0//EN
METHOD:PUBLISH
X-PUBLISHED-TTL:P3D
REFRESH-INTERVAL:P3D
CALSCALE:GREGORIAN
BEGIN:VEVENT
DTSTART:20231121T180000Z
DTEND:20231121T190000Z
X-MICROSOFT-CDO-ALLDAYEVENT:FALSE
SUMMARY:Grand Opening for Proline Uniforms
DESCRIPTION:Join in celebrating the Grand Opening of Proline Uniforms
X-ALT-DESC;FMTTYPE=text/html:Join in celebrating the Grand Opening of Proline Uniforms
LOCATION:7250 AL-21 Sylacauga\, AL 35151
UID:e.3137.252187
SEQUENCE:3
DTSTAMP:20260420T004845Z
URL:https://members.sylacaugachamber.com/events/details/grand-opening-for-proline-uniforms-252187
END:VEVENT

END:VCALENDAR
