BEGIN:VCALENDAR
VERSION:2.0
PRODID:-//ChamberMaster//Event Calendar 2.0//EN
METHOD:PUBLISH
X-PUBLISHED-TTL:P3D
REFRESH-INTERVAL:P3D
CALSCALE:GREGORIAN
BEGIN:VEVENT
DTSTART:20231215T170000Z
DTEND:20231215T180000Z
X-MICROSOFT-CDO-ALLDAYEVENT:FALSE
SUMMARY:Grand Opening Shogun
DESCRIPTION:Join us for a Ribbon Cutting Celebrating the Grand Opening of Shogun Sylacauga
X-ALT-DESC;FMTTYPE=text/html:Join us for a Ribbon Cutting Celebrating the Grand Opening of Shogun Sylacauga
LOCATION:601 West Ft. Williams St Sylacauga\, AL 35150
UID:e.3137.252194
SEQUENCE:3
DTSTAMP:20260420T023536Z
URL:https://members.sylacaugachamber.com/events/details/grand-opening-shogun-252194
END:VEVENT

END:VCALENDAR
