BEGIN:VCALENDAR
VERSION:2.0
PRODID:-//ChamberMaster//Event Calendar 2.0//EN
METHOD:PUBLISH
X-PUBLISHED-TTL:P3D
REFRESH-INTERVAL:P3D
CALSCALE:GREGORIAN
BEGIN:VEVENT
DTSTART:20231128T140000Z
DTEND:20231128T150000Z
X-MICROSOFT-CDO-ALLDAYEVENT:FALSE
SUMMARY:Industry Advisory Alliance
DESCRIPTION:Creating connections to strengthen the workforce of our region.\n\nJoin in on the discussion of future development\, employee retention\, continuing education\, and improving the quality of life for our workforce.  The presenter for November will be Margaret Morton and Ryan Coleman\; EARTH/East Alabama Rural Innovation and Training Hub.
X-ALT-DESC;FMTTYPE=text/html:Creating connections to strengthen the workforce of our region.<br />\n<span class="WdYUQQ text-decoration-none text-strikethrough-none" style="color: rgb(35\, 31\, 32)\; font-weight: 700\;">Join in on the discussion of future development\, employee retention\, continuing education\, and improving the quality of life for our workforce.&nbsp\; The presenter for November will be Margaret Morton and Ryan Coleman\; EARTH/East Alabama Rural Innovation and Training Hub.&nbsp\;&nbsp\;</span>
LOCATION:B.B. Comer Memorial Library Auditorium 314 N. Broadway Ave Sylacauga\, AL 35150
UID:e.3137.252191
SEQUENCE:3
DTSTAMP:20260420T004844Z
URL:https://members.sylacaugachamber.com/events/details/industry-advisory-alliance-252191
END:VEVENT

END:VCALENDAR
