BEGIN:VCALENDAR
VERSION:2.0
PRODID:-//ChamberMaster//Event Calendar 2.0//EN
METHOD:PUBLISH
X-PUBLISHED-TTL:P3D
REFRESH-INTERVAL:P3D
CALSCALE:GREGORIAN
BEGIN:VEVENT
DTSTART:20240112T230000Z
DTEND:20240113T020000Z
X-MICROSOFT-CDO-ALLDAYEVENT:FALSE
SUMMARY:Laser Tag @ the Rec
DESCRIPTION:The Sylacauga Parks and Recreation is hosting Laser Tag on Friday\, January 12 at the J. Craig Smith Community Center Gymnasium. Laser tag is a recreational activity where players attempt to score points by tagging targets with a hand-held infrared-emitting targeting device. Infrared-sensitive targets (vests) are worn by each player. When compared to paintball\, laser tag is painless because it uses no physical projectiles. Instead\, it uses lasers which are completely safe and pain-free! Individuals or groups can book a 30-minute timeslot (one game) for a max of 16 people per group. Upon arrival\, players will be divided into four teams to compete for the most "tags." The cost is $10 per person and time slots can be booked online at Sylacauga.recdesk.com under the Special Events category. Reservations can also be made by calling the J. Craig Smith Community Center at 256.249.8561. Laser tag is open to anyone age 4 and up.
X-ALT-DESC;FMTTYPE=text/html:<span style="background-color:transparent\; color:rgb(0\, 0\, 0)\; font-family:arial\,sans-serif\; font-size:12pt">The Sylacauga Parks and Recreation is hosting Laser Tag on Friday\, January 12 at the J. Craig Smith Community Center Gymnasium. Laser tag is a recreational activity where players attempt to score points by tagging targets with a hand-held infrared-emitting targeting device. Infrared-sensitive targets (vests) are worn by each player. When compared to paintball\, laser tag is painless because it uses no physical projectiles. Instead\, it uses lasers which are completely safe and pain-free! Individuals or groups can book a 30-minute timeslot (one game) for a max of 16 people per group. Upon arrival\, players will be divided into four teams to compete for the most &ldquo\;tags.&rdquo\; The cost is $10 per person and time slots can be booked online at </span><a href="https://sylacauga.recdesk.com/Community/Program?category=23" style="text-decoration-line: none\;"><span style="background-color:transparent\; color:rgb(17\, 85\, 204)\; font-family:arial\,sans-serif\; font-size:12pt">Sylacauga.recdesk.com</span></a><span style="background-color:transparent\; color:rgb(0\, 0\, 0)\; font-family:arial\,sans-serif\; font-size:12pt"> under the Special Events category. Reservations can also be made by calling the J. Craig Smith Community Center at 256.249.8561. Laser tag is open to anyone age 4 and up.</span>
LOCATION:J. Craig Community Center 2 West 8th Street Sylacauga\, AL 35150
UID:e.3137.252206
SEQUENCE:3
DTSTAMP:20260420T043159Z
URL:https://members.sylacaugachamber.com/events/details/laser-tag-the-rec-01-12-2024-252206
END:VEVENT

END:VCALENDAR
