BEGIN:VCALENDAR
VERSION:2.0
PRODID:-//ChamberMaster//Event Calendar 2.0//EN
METHOD:PUBLISH
X-PUBLISHED-TTL:P3D
REFRESH-INTERVAL:P3D
CALSCALE:GREGORIAN
BEGIN:VEVENT
DTSTART:20231213T160000Z
DTEND:20231213T170000Z
X-MICROSOFT-CDO-ALLDAYEVENT:FALSE
SUMMARY:Marketing Series: Analytics to Make Decisions
DESCRIPTION:The Sylacauga Chamber of Commerce is providing a free Marketing Series for Chamber Members. This monthly workshop will give you valuable information\, tips\, and tricks on marketing your business. Muscadine Marketing will lead each workshop at the Sylacauga Chamber. Each monthly workshop will feature a different marketing topic. \n\n\n\nThis month's series will teach you how to use analytics on multiple marketing platforms to make strategic decisions for your business.
X-ALT-DESC;FMTTYPE=text/html:The Sylacauga Chamber of Commerce is providing a free Marketing Series for Chamber Members. This monthly workshop will give you valuable information\, tips\, and tricks on marketing your business. Muscadine Marketing will lead each workshop at the Sylacauga Chamber. Each monthly workshop will feature a different marketing topic.&nbsp\;<br />\n<br />\nThis month&#39\;s series will teach you how to use analytics on multiple marketing platforms to make strategic decisions for your business.&nbsp\;
LOCATION:17 West Fort Williams Street Sylacauga\, AL 35150
UID:e.3137.252137
SEQUENCE:3
DTSTAMP:20260420T024015Z
URL:https://members.sylacaugachamber.com/events/details/marketing-series-analytics-to-make-decisions-252137
END:VEVENT

END:VCALENDAR
