BEGIN:VCALENDAR
VERSION:2.0
PRODID:-//ChamberMaster//Event Calendar 2.0//EN
METHOD:PUBLISH
X-PUBLISHED-TTL:P3D
REFRESH-INTERVAL:P3D
CALSCALE:GREGORIAN
BEGIN:VEVENT
DTSTART:20231104T150000Z
DTEND:20231104T170000Z
X-MICROSOFT-CDO-ALLDAYEVENT:FALSE
SUMMARY:Mommy & Me Tea Party
DESCRIPTION:The Sylacauga Parks and Recreation is hosting a Mommy & Me Tea Party! Girls ages three and up are invited to attend with their mothers (or motherly figures) on Saturday\, November 4 at 10:00 AM. Attendees will enjoy sipping tea\, indulging in scones and petit fours\, and participating in several mommy & me activities. The cost to attend is $15 per person (children and adults) and includes refreshments\, make-your-own bracelet station\, activities with Miss Sylacauga & Miss Teen Sylacauga\, photo booth\, make-your-own picture frame station\, and more! We'll print your "Mommy & Me" photo on site so it can immediately be placed in the newly decorated frame and taken home as a keepsake. Tea party attire is requested but not required. (Princess outfits are perfectly acceptable.) To attend the tea party\, registrants must reserve their spots by October 27. Register at Sylacauga.Recdesk.com\, in person at the J. Craig Smith Community Center\, or over the phone at 256.249.8561.
X-ALT-DESC;FMTTYPE=text/html:<p><span style="background-color:transparent\; color:rgb(0\, 0\, 0)\; font-family:arial\,sans-serif\; font-size:11pt">The Sylacauga Parks and Recreation is hosting a Mommy &amp\; Me Tea Party! Girls ages three and up are invited to attend with their mothers (or motherly figures) on Saturday\, November 4 at 10:00 AM. Attendees will enjoy sipping tea\, indulging in scones and petit fours\, and participating in several mommy &amp\; me activities. The cost to attend is $15 per person (children and adults) and includes refreshments\, make-your-own bracelet station\, activities with Miss Sylacauga &amp\; Miss Teen Sylacauga\, photo booth\, make-your-own picture frame station\, and more! We&rsquo\;ll print your &ldquo\;Mommy &amp\; Me&rdquo\; photo on site so it can immediately be placed in the newly decorated frame and taken home as a keepsake. Tea party attire is requested but not required. (Princess outfits are perfectly acceptable.) To attend the tea party\, registrants must reserve their spots by October 27. Register at Sylacauga.Recdesk.com\, in person at the J. Craig Smith Community Center\, or over the phone at 256.249.8561.</span></p>\n\n<div>&nbsp\;</div>\n
LOCATION:J. Craig Smith Community Center 2 W. 8th Street Sylacauga\, AL 35150
UID:e.3137.252180
SEQUENCE:3
DTSTAMP:20260420T023003Z
URL:https://members.sylacaugachamber.com/events/details/mommy-me-tea-party-252180
END:VEVENT

END:VCALENDAR
