BEGIN:VCALENDAR
VERSION:2.0
PRODID:-//ChamberMaster//Event Calendar 2.0//EN
METHOD:PUBLISH
X-PUBLISHED-TTL:P3D
REFRESH-INTERVAL:P3D
CALSCALE:GREGORIAN
BEGIN:VEVENT
DTSTART:20240127T000000Z
DTEND:20240127T020000Z
X-MICROSOFT-CDO-ALLDAYEVENT:FALSE
SUMMARY:Movie Night @ the Rec
DESCRIPTION:The Sylacauga Parks and Recreation presents Movie Night at the Rec. Come and enjoy a FREE showing of Transformers: Rise of the Beasts on our big screen! This event will take place at the J. Craig Community Center Gym on Friday\, January 26 at 6:00 pm. On the Run Concessions and Lilly Jo's Treats will be there for your dinner\, drink\, and dessert options. Bring a lawn chair or a blanket for more comfortable seating options. \n \n\nMovie Synopsis:\n\n"In the inner city\, a troubled young man named Noah finds himself down on his luck. Yet his seemingly wayward life takes an unexpected turn when he stumbles upon a race of giant robots with the ability to transform into robotic animals. When the earth comes under threat from a sinister force\, it is up to Noah and his newfound allies to protect humanity from a seemingly unstoppable threat." The movie is rated PG-13 and runs 127 minutes. It is licensed for public performance by Swank Motion Pictures\, Inc.\n \n\n*Please note: Due to licensing restrictions\, the name of the film must not appear on radio\, TV\, or in the newspaper.
X-ALT-DESC;FMTTYPE=text/html:<p><span style="background-color:transparent\; color:rgb(0\, 0\, 0)\; font-family:arial\,sans-serif\; font-size:12pt">The Sylacauga Parks and Recreation presents Movie Night at the Rec. Come and enjoy a FREE showing of </span><em>Transformers: Rise of the Beasts</em><span style="background-color:transparent\; color:rgb(0\, 0\, 0)\; font-family:arial\,sans-serif\; font-size:12pt"> on our big screen! This event will take place at the J. Craig Community Center Gym on Friday\, January 26 at 6:00 pm. On the Run Concessions and Lilly Jo&rsquo\;s Treats will be there for your dinner\, drink\, and dessert options. Bring a lawn chair or a blanket for more comfortable seating options.&nbsp\;</span></p>\n&nbsp\;\n\n<p><span style="background-color:transparent\; color:rgb(0\, 0\, 0)\; font-family:arial\,sans-serif\; font-size:12pt">Movie Synopsis:</span></p>\n\n<p><span style="background-color:transparent\; color:rgb(0\, 0\, 0)\; font-family:arial\,sans-serif\; font-size:11pt">&ldquo\;In the inner city\, a troubled young man named Noah finds himself down on his luck. Yet his seemingly wayward life takes an unexpected turn when he stumbles upon a race of giant robots with the ability to transform into robotic animals. When the earth comes under threat from a sinister force\, it is up to Noah and his newfound allies to protect humanity from a seemingly unstoppable threat.&rdquo\; The movie is rated PG-13 and runs 127 minutes. It is licensed for public performance by Swank Motion Pictures\, Inc.</span></p>\n&nbsp\;\n\n<p><em>*Please note: Due to licensing restrictions\, the name of the film must not appear on radio\, TV\, or in the newspaper.&nbsp\;</em></p>\n\n<div>&nbsp\;</div>\n
LOCATION:J. Craig Smith Community Center 2 West 8th Street\, Sylacauga\, AL 35150
UID:e.3137.252209
SEQUENCE:3
DTSTAMP:20260420T043112Z
URL:https://members.sylacaugachamber.com/events/details/movie-night-the-rec-252209
END:VEVENT

END:VCALENDAR
