BEGIN:VCALENDAR
VERSION:2.0
PRODID:-//ChamberMaster//Event Calendar 2.0//EN
METHOD:PUBLISH
X-PUBLISHED-TTL:P3D
REFRESH-INTERVAL:P3D
CALSCALE:GREGORIAN
BEGIN:VEVENT
DTSTART;VALUE=DATE:20231106
DTEND;VALUE=DATE:20231111
TRANSP:TRANSPARENT
X-MICROSOFT-CDO-ALLDAYEVENT:TRUE
SUMMARY:Myrtle Beach Holiday Show Trip
DESCRIPTION:The Sylacauga Parks & Recreation is heading to Myrtle Beach for a Holiday Show Trip on November 6-10! Join us for a 5-day\, 4-night stay in Myrtle Beach\, South Carolina. Trip includes:\n\n \n\n\n	\n	Motorcoach transportation\n	\n	\n	4 nights lodging in the Myrtle Beach area\n	\n	\n	8 meals: 4 breakfasts and 4 dinners\n	\n	\n	Three Evening Christmas Shows: LEGENDS IN CONCERT\, CAROLINA OPRY\, & ALABAMA THEATRE\n	\n	\n	"HOT JERSEY NIGHTS CHRISTMAS SPECIAL" at Broadway Theater\n	\n	\n	"THE MAN OF A THOUSAND VOICES" at Asher Theatre\n	\n	\n	BAREFOOT LANDING\, a Unique and Popular Shopping\, Dining & Entertainment Experience\n	\n	\n	Visit to MYRTLE BEACH BOARDWALK and PROMENADE\n	\n	\n	Amazing L.W. PAUL LIVING HISTORY FARM\n\n	 \n	\n\nThis trip is available to adults of all ages! The cost is $655 per person for double-occupancy (two people in a hotel room) or $820 per person for single-occupancy. $75 is due upon registration and final payment is due by August 30\, 2023. Travelers will depart from the Maxye Veazey Senior Center at 8:00 AM on November 6. Please register by August 30 to secure a spot! Additional information can be found at GroupTrips.com/SylacaugaParksRecreation or by contacting Sherry Vickers at 256.401.0021/svickersmvc@gmail.com.
X-ALT-DESC;FMTTYPE=text/html:<p><span style="background-color:transparent\; color:rgb(0\, 0\, 0)\; font-family:calibri\,sans-serif\; font-size:12pt">The Sylacauga Parks &amp\; Recreation is heading to Myrtle Beach for a Holiday Show Trip on November 6-10! Join us for a 5-day\, 4-night stay in Myrtle Beach\, South Carolina. Trip includes:</span><br />\n&nbsp\;</p>\n\n<ul>\n	<li>\n	<p><span style="background-color:transparent\; font-size:12pt">Motorcoach transportation</span></p>\n	</li>\n	<li>\n	<p><span style="background-color:transparent\; font-size:12pt">4 nights lodging in the Myrtle Beach area</span></p>\n	</li>\n	<li>\n	<p><span style="background-color:transparent\; font-size:12pt">8 meals: 4 breakfasts and 4 dinners</span></p>\n	</li>\n	<li>\n	<p><span style="background-color:transparent\; font-size:12pt">Three Evening Christmas Shows: LEGENDS IN CONCERT\, CAROLINA OPRY\, &amp\; ALABAMA THEATRE</span></p>\n	</li>\n	<li>\n	<p><span style="background-color:transparent\; font-size:12pt">&quot\;HOT JERSEY NIGHTS CHRISTMAS SPECIAL&quot\; at Broadway Theater</span></p>\n	</li>\n	<li>\n	<p><span style="background-color:transparent\; font-size:12pt">&ldquo\;THE MAN OF A THOUSAND VOICES&rdquo\; at Asher Theatre</span></p>\n	</li>\n	<li>\n	<p><span style="background-color:transparent\; font-size:12pt">BAREFOOT LANDING\, a Unique and Popular Shopping\, Dining &amp\; Entertainment Experience</span></p>\n	</li>\n	<li>\n	<p><span style="background-color:transparent\; font-size:12pt">Visit to MYRTLE BEACH BOARDWALK and PROMENADE</span></p>\n	</li>\n	<li>\n	<p><span style="background-color:transparent\; font-size:12pt">Amazing L.W. PAUL LIVING HISTORY FARM</span><br />\n	&nbsp\;</p>\n	</li>\n</ul>\n<span style="background-color:transparent\; color:rgb(0\, 0\, 0)\; font-family:calibri\,sans-serif\; font-size:12pt">This trip is available to adults of all ages! The cost is $655 per person for double-occupancy (two people in a hotel room) or $820 per person for single-occupancy. $75 is due upon registration and final payment is due by August 30\, 2023. Travelers will depart from the Maxye Veazey Senior Center at 8:00 AM on November 6. Please register by August 30 to secure a spot! Additional information can be found at GroupTrips.com/SylacaugaParksRecreation or by contacting Sherry Vickers at 256.401.0021/</span><a href="mailto:svickersmvc@gmail.com" style="text-decoration-line: none\;"><span style="background-color:transparent\; color:rgb(17\, 85\, 204)\; font-family:calibri\,sans-serif\; font-size:12pt">svickersmvc@gmail.com</span></a><span style="background-color:transparent\; color:rgb(0\, 0\, 0)\; font-family:calibri\,sans-serif\; font-size:12pt">.&nbsp\;</span>
LOCATION:Myrtle Beach\, SC
UID:e.3137.252099
SEQUENCE:3
DTSTAMP:20260420T005111Z
URL:https://members.sylacaugachamber.com/events/details/myrtle-beach-holiday-show-trip-252099
END:VEVENT

END:VCALENDAR
