BEGIN:VCALENDAR
VERSION:2.0
PRODID:-//ChamberMaster//Event Calendar 2.0//EN
METHOD:PUBLISH
X-PUBLISHED-TTL:P3D
REFRESH-INTERVAL:P3D
CALSCALE:GREGORIAN
BEGIN:VEVENT
DTSTART:20231128T000000Z
DTEND:20231128T010000Z
X-MICROSOFT-CDO-ALLDAYEVENT:FALSE
SUMMARY:Oak Grove Christmas Tree Lighting
DESCRIPTION:Join the Town of Oak Grove for a Christmas Tree Lighting to celebrate the holiday season! Visit with Santa and enjoy Hot Chocolate and Cookies!
X-ALT-DESC;FMTTYPE=text/html:Join the Town of Oak Grove for a Christmas Tree Lighting to celebrate the holiday season! Visit with Santa and enjoy Hot Chocolate and Cookies!
LOCATION:Oak Grove Park 2364 Forest Glen Rd\, Sylacauga\, AL 35150
UID:e.3137.252189
SEQUENCE:3
DTSTAMP:20260420T022750Z
URL:https://members.sylacaugachamber.com/events/details/oak-grove-christmas-tree-lighting-252189
END:VEVENT

END:VCALENDAR
