BEGIN:VCALENDAR
VERSION:2.0
PRODID:-//ChamberMaster//Event Calendar 2.0//EN
METHOD:PUBLISH
X-PUBLISHED-TTL:P3D
REFRESH-INTERVAL:P3D
CALSCALE:GREGORIAN
BEGIN:VEVENT
DTSTART:20231215T140000Z
DTEND:20231215T180000Z
X-MICROSOFT-CDO-ALLDAYEVENT:FALSE
SUMMARY:Pinhoti trail thru hike
DESCRIPTION:Thru hike of the Pinhoti trail Begin 12/15/23 anticipated End 01/31/24
X-ALT-DESC;FMTTYPE=text/html:Thru hike of the Pinhoti trail Begin 12/15/23 anticipated End 01/31/24
LOCATION:
UID:e.3137.252154
SEQUENCE:3
DTSTAMP:20260420T043909Z
URL:https://members.sylacaugachamber.com/events/details/pinhoti-trail-thru-hike-252154
END:VEVENT

END:VCALENDAR
