BEGIN:VCALENDAR
VERSION:2.0
PRODID:-//ChamberMaster//Event Calendar 2.0//EN
METHOD:PUBLISH
X-PUBLISHED-TTL:P3D
REFRESH-INTERVAL:P3D
CALSCALE:GREGORIAN
BEGIN:VEVENT
DTSTART:20240104T140000Z
DTEND:20240104T150000Z
X-MICROSOFT-CDO-ALLDAYEVENT:FALSE
SUMMARY:Regional Chamber Breakfast
DESCRIPTION:You're invited to join us for a regional networking breakfast at Carillon Oaks Lincoln and experience a National Historic Landmark. \n\n\n\nRSVP at this link: https://forms.gle/2m7iKZb2WSXVNeTP9\n\n\n\nTalladega County's Premier Senior Living Community\n\n\n\nIndependent and Assisted Living\n\nCarillon Oaks offers independent and assisted living in a historic setting. The stately brick Lincoln High School\, a National Historic Landmark\, has been completely restored into a beautiful\, amenity-rich senior living community.  A large stage/auditorium has been restored to bring the community to Carillon Oaks for receptions\, recitals\, and plays. Dining is a major focus of life in this historic community\, and the chef-prepared meals served three times daily\, plus snacks incorporate Southern favorites into healthy\, varied menus. Private dining and plans for special dietary needs are available.\n\n\n\nFamily and friends enjoy both a welcoming environment and peace of mind about their loved ones. Around-the-clock care includes nurses and security\, and management of medications and incontinence is available as residents' needs change. Comprehensive services include laundry\, housekeeping\, and transportation. A beauty salon is also on-site and includes pedicure chairs. Wellness plans are personalized and proactive\; the property includes a therapy & fitness center.\n\n\n\nCarillon Oaks Lincoln brings a new level of care and amenities to Lincoln and surrounding communities. Surrounded by historic areas and natural scenery\, this property is conveniently located between Birmingham and Atlanta.\n\n\n\nMemory Care\n\nElevate your loved one's quality of life at Carillon Oaks Lincoln\, a thoughtfully designed space for our residents with Alzheimer's or dementia. Our full-time Memory Care Activities Director creates engaging activities that celebrate individual interests and passions\, while our dedicated team offers expert care with a heart-centered approach. Medication management\, incontinence management\, proactive care\, and wellness plans are provided.
X-ALT-DESC;FMTTYPE=text/html:<b style="color: rgb(36\, 36\, 36)\; font-family: &quot\;Segoe UI&quot\;\, &quot\;Segoe UI Web (West European)&quot\;\, &quot\;Segoe UI&quot\;\, -apple-system\, BlinkMacSystemFont\, Roboto\, &quot\;Helvetica Neue&quot\;\, sans-serif\; font-size: 15px\; background-color: rgb(255\, 255\, 255)\;"><span style="border: 0px\; font-style: inherit\; font-variant: inherit\; font-weight: inherit\; font-stretch: inherit\; font-size: 15pt\; line-height: inherit\; font-family: Roboto\; font-optical-sizing: inherit\; font-kerning: inherit\; font-feature-settings: inherit\; font-variation-settings: inherit\; margin: 0px\; padding: 0px\; vertical-align: baseline\; color: rgb(124\, 124\, 124) !important\;">You&#39\;re invited to join us for a regional networking breakfast at Carillon Oaks Lincoln and experience a National Historic Landmark.</span></b><span style="border: 0px\; font-variant-numeric: inherit\; font-variant-east-asian: inherit\; font-variant-alternates: inherit\; font-variant-position: inherit\; font-stretch: inherit\; font-size: 15pt\; line-height: inherit\; font-family: Roboto\; font-optical-sizing: inherit\; font-kerning: inherit\; font-feature-settings: inherit\; font-variation-settings: inherit\; margin: 0px\; padding: 0px\; vertical-align: baseline\; background-color: rgb(255\, 255\, 255)\; color: rgb(124\, 124\, 124) !important\;">&nbsp\;<br aria-hidden="true" />\n<br aria-hidden="true" />\n<b>RSVP at this link:&nbsp\;<a data-auth="NotApplicable" data-linkindex="0" href="https://forms.gle/2m7iKZb2WSXVNeTP9" rel="noopener noreferrer" style="border: 0px\; font: inherit\; margin: 0px\; padding: 0px\; vertical-align: baseline\; color: rgb(5\, 99\, 193)\;" target="_blank"><span style="border: 0px\; font: inherit\; margin: 0px\; padding: 0px\; vertical-align: baseline\; color: rgb(0\, 130\, 103) !important\;">https://forms.gle/2m7iKZb2WSXVNeTP9</span></a></b><br aria-hidden="true" />\n<br aria-hidden="true" />\n<b>Talladega County&rsquo\;s Premier Senior Living Community</b><br aria-hidden="true" />\n<br aria-hidden="true" />\n<b>Independent and Assisted Living</b><br aria-hidden="true" />\nCarillon Oaks offers independent and assisted living in a historic setting. The stately brick Lincoln High School\, a National Historic Landmark\, has been completely restored into a beautiful\, amenity-rich senior living community.&nbsp\; A large stage/auditorium has been restored to bring the community to Carillon Oaks for receptions\, recitals\, and plays. Dining is a major focus of life in this historic community\, and the chef-prepared meals&mdash\;served three times daily\, plus snacks&mdash\;incorporate Southern favorites into healthy\, varied menus. Private dining and plans for special dietary needs are available.<br aria-hidden="true" />\n<br aria-hidden="true" />\nFamily and friends enjoy both a welcoming environment and peace of mind about their loved ones. Around-the-clock care includes nurses and security\, and management of medications and incontinence is available as residents&#39\; needs change. Comprehensive services include laundry\, housekeeping\, and transportation. A beauty salon is also on-site and includes pedicure chairs. Wellness plans are personalized and proactive\; the property includes a therapy &amp\; fitness center.<br aria-hidden="true" />\n<br aria-hidden="true" />\nCarillon Oaks Lincoln brings a new level of care and amenities to Lincoln and surrounding communities. Surrounded by historic areas and natural scenery\, this property is conveniently located between Birmingham and Atlanta.<br aria-hidden="true" />\n<br aria-hidden="true" />\n<b>Memory Care</b><br aria-hidden="true" />\nElevate your loved one&rsquo\;s quality of life at Carillon Oaks Lincoln\, a thoughtfully designed space for our residents with Alzheimer&rsquo\;s or dementia. Our full-time Memory Care Activities Director creates engaging activities that celebrate individual interests and passions\, while our dedicated team offers expert care with a heart-centered approach. Medication management\, incontinence management\, proactive care\, and wellness plans are provided.</span>
LOCATION:Carillon Oaks Lincoln Memory Care 224 Jones St. Lincoln\, AL 35096
UID:e.3137.252200
SEQUENCE:3
DTSTAMP:20260420T061146Z
URL:https://members.sylacaugachamber.com/events/details/regional-chamber-breakfast-252200
END:VEVENT

END:VCALENDAR
