BEGIN:VCALENDAR
VERSION:2.0
PRODID:-//ChamberMaster//Event Calendar 2.0//EN
METHOD:PUBLISH
X-PUBLISHED-TTL:P3D
REFRESH-INTERVAL:P3D
CALSCALE:GREGORIAN
BEGIN:VEVENT
DTSTART:20240110T180000Z
DTEND:20240110T190000Z
X-MICROSOFT-CDO-ALLDAYEVENT:FALSE
SUMMARY:Ribbon Cutting for Glory Springs Urgent Care
DESCRIPTION:Please join us as we celebrate the Ribbon Cutting for Gory Springs Urgent Care
X-ALT-DESC;FMTTYPE=text/html:Please join us as we celebrate the Ribbon Cutting for Gory Springs Urgent Care
LOCATION:1023 W fort Williams St Sylacauga\, AL
UID:e.3137.252199
SEQUENCE:3
DTSTAMP:20260420T061330Z
URL:https://members.sylacaugachamber.com/events/details/ribbon-cutting-for-glory-springs-urgent-care-252199
END:VEVENT

END:VCALENDAR
