BEGIN:VCALENDAR
VERSION:2.0
PRODID:-//ChamberMaster//Event Calendar 2.0//EN
METHOD:PUBLISH
X-PUBLISHED-TTL:P3D
REFRESH-INTERVAL:P3D
CALSCALE:GREGORIAN
BEGIN:VEVENT
DTSTART:20240326T150000Z
DTEND:20240326T160000Z
X-MICROSOFT-CDO-ALLDAYEVENT:FALSE
SUMMARY:Ribbon Cutting for Heritage South Credit Union Data Center
DESCRIPTION:Join us in celebrating the expansion of Heritage South Credit Union with their new Data Center!
X-ALT-DESC;FMTTYPE=text/html:Join us in celebrating the expansion of Heritage South Credit Union with their new Data Center!
LOCATION:60 Gene E Stewart Blvd Sylacauga\, AL 35150
UID:e.3137.252241
SEQUENCE:3
DTSTAMP:20260420T094738Z
URL:https://members.sylacaugachamber.com/events/details/ribbon-cutting-for-heritage-south-credit-union-data-center-252241
END:VEVENT

END:VCALENDAR
