BEGIN:VCALENDAR
VERSION:2.0
PRODID:-//ChamberMaster//Event Calendar 2.0//EN
METHOD:PUBLISH
X-PUBLISHED-TTL:P3D
REFRESH-INTERVAL:P3D
CALSCALE:GREGORIAN
BEGIN:VEVENT
DTSTART:20231114T180000Z
DTEND:20231114T190000Z
X-MICROSOFT-CDO-ALLDAYEVENT:FALSE
SUMMARY:Ribbon Cutting Marble City Nutrition
DESCRIPTION:Join us as we celebrate the Ribbon Cutting for Marble City Nutrition
X-ALT-DESC;FMTTYPE=text/html:Join us as we celebrate the Ribbon Cutting for Marble City Nutrition
LOCATION:8 W 1st Street Sylacauga\, AL 35151
UID:e.3137.252185
SEQUENCE:3
DTSTAMP:20260420T023227Z
URL:https://members.sylacaugachamber.com/events/details/ribbon-cutting-marble-city-nutrition-252185
END:VEVENT

END:VCALENDAR
