BEGIN:VCALENDAR
VERSION:2.0
PRODID:-//ChamberMaster//Event Calendar 2.0//EN
METHOD:PUBLISH
X-PUBLISHED-TTL:P3D
REFRESH-INTERVAL:P3D
CALSCALE:GREGORIAN
BEGIN:VEVENT
DTSTART:20240816T150000Z
DTEND:20240816T170000Z
X-MICROSOFT-CDO-ALLDAYEVENT:FALSE
SUMMARY:Seniors: Weather Radio Programming Event
DESCRIPTION:The Sylacauga Parks and Recreation is thrilled to offer a weather radio programming event to the senior citizens of our community. ABC 33/40's meteorologist Evan Chickvara will be at the Maxye Veazey Senior Center on Friday\, August 16 from 10:00 AM until 12:00 PM to check and program weather radios for those who are age 55+. Seniors are asked to bring their own weather radios to be checked and/or programmed\; however\, thanks to the generosity of Bill Pharr with Area Real Estate\, Inc.\, we will be able to offer 20 free weather radios to seniors who do not have a weather radio or the means to purchase one. \n \n\nThe Maxye Veazey Senior Center is located at 2 West 8th Street\, Sylacauga\, AL. The building is attached to the side of the J. Craig Smith Community Center. Participants should enter at the porte-co with rocking chairs. \n \n\nThe Sylacauga Parks & Recreation is grateful to meteorologist Evan Chickvara who made this event possible and Bill Pharr of Area Real Estate for providing the weather radios to those in need.
X-ALT-DESC;FMTTYPE=text/html:<p><span style="background-color:transparent\; color:rgb(0\, 0\, 0)\; font-family:arial\,sans-serif\; font-size:12pt">The Sylacauga Parks and Recreation is thrilled to offer a weather radio programming event to the senior citizens of our community. ABC 33/40&rsquo\;s meteorologist Evan Chickvara will be at the Maxye Veazey Senior Center on Friday\, August 16 from 10:00 AM until 12:00 PM to check and program weather radios for those who are age 55+. Seniors are asked to bring their own weather radios to be checked and/or programmed\; however\, thanks to the generosity of Bill Pharr with Area Real Estate\, Inc.\, we will be able to offer 20 free weather radios to seniors who do not have a weather radio or the means to purchase one.&nbsp\;</span></p>\n&nbsp\;\n\n<p><span style="background-color:transparent\; color:rgb(0\, 0\, 0)\; font-family:arial\,sans-serif\; font-size:12pt">The Maxye Veazey Senior Center is located at 2 West 8th Street\, Sylacauga\, AL. The building is attached to the side of the J. Craig Smith Community Center. Participants should enter at the porte-co with rocking chairs.&nbsp\;</span></p>\n&nbsp\;\n\n<p><span style="background-color:transparent\; color:rgb(0\, 0\, 0)\; font-family:arial\,sans-serif\; font-size:12pt">The Sylacauga Parks &amp\; Recreation is grateful to meteorologist Evan Chickvara who made this event possible and Bill Pharr of Area Real Estate for providing the weather radios to those in need.</span></p>\n\n<div>&nbsp\;</div>\n
LOCATION:Maxye Veazey Senior Center 2 West 8th Street\, Sylacauga\, AL 35150
UID:e.3137.252295
SEQUENCE:3
DTSTAMP:20260420T173530Z
URL:https://members.sylacaugachamber.com/events/details/seniors-weather-radio-programming-event-252295
END:VEVENT

END:VCALENDAR
