BEGIN:VCALENDAR
VERSION:2.0
PRODID:-//ChamberMaster//Event Calendar 2.0//EN
METHOD:PUBLISH
X-PUBLISHED-TTL:P3D
REFRESH-INTERVAL:P3D
CALSCALE:GREGORIAN
BEGIN:VEVENT
DTSTART:20231208T000000Z
DTEND:20231208T020000Z
X-MICROSOFT-CDO-ALLDAYEVENT:FALSE
SUMMARY:Sylacauga Christmas Parade
DESCRIPTION:An authentic small-town Christmas experience! The annual Christmas Parade is held in the evening in December to highlight the sparkle of the holidays. The parade journeys down Broadway and Norton inviting over 800 visitors to line the parade route to enjoy the sites and sounds of Christmas including bands\, dancers\, and festively decorated floats. The parade concludes with the much anticipated arrival of Jolly Old St. Nick himself.\n\n\n\nSUBMIT PARADE APPLICATION HERE\n\nPlease pay for your entry fee online here\n\n\n\nNO MOTORCYCLES\, DIRTBIKES\, OR OTHER ATV'S OF ANY KIND WILL BE ACCEPTED THIS YEAR.\n\nCandy or other items MAY NOT be thrown out to the crowd from any parade entries.\nPARADE ENTRY RULES AND REGULATIONS HERE\n\n\n\nENTRY FEES :(Non-Refundable)\n\nChamber Member Float Fee: $35\n\nNon-Float Businesses Advertising Their Company\n\n(Cars\, Truck\, Golf Cart\, SXS\, UTV\, etc.) $50.00\n\nFloats (Large and Small) $50.00\n\nPick-Up Trucks $50.00\n\nWalkers (Per Unit) $15.00\n\nTitleholders & Dignitaries (each)$15.00\n\nHorses (each)$15.00\n\n\n\nPARADE ROUTE:\n\nBegins at Sylacauga High School\n\nGoes South on Broadway Avenue\n\nTurns right on Norton Avenue\n\nGoes North on Norton Avenue to end at Sylacauga Parks & Recreation
X-ALT-DESC;FMTTYPE=text/html:<p><span style="font-size:14px\;"><span style="font-family:arial\;"><span style="color: rgb(51\, 51\, 51)\; background-color: rgb(238\, 238\, 238)\;">An authentic small-town Christmas experience! The annual Christmas Parade is held in the evening in December to highlight the sparkle of the holidays. The parade journeys down Broadway and Norton inviting over 800 visitors to line the parade route to enjoy the sites and sounds of Christmas including bands\, dancers\, and festively decorated floats. The parade concludes with the much anticipated arrival of Jolly Old St. Nick himself.</span></span></span><br />\n<br />\n<span style="font-size:20px\;"><u><a href="https://forms.gle/4iu2KKM5MtBcCNk9A"><span style="color:#FF0000\;"><strong>SUBMIT&nbsp\;</strong></span></a><a href="https://forms.gle/4iu2KKM5MtBcCNk9A"><span style="color:#FF0000\;"><span style="font-family: &quot\;Trebuchet MS&quot\;\, Tahoma\, &quot\;Nimbus Sans L&quot\;\, sans-serif\; background-color: rgb(238\, 238\, 238)\;"><strong>PARADE APPLICATION HERE</strong></span></span></a></u></span><br />\n<span style="color:#000000\;">Please pay for your entry fee online&nbsp\;</span><strong><a href="https://sylacaugachamber.chambermaster.com/eventregistration/register/252145"><span style="color:#FF0000\;">here</span></a></strong><br />\n<br />\n<span style="color:#000000\;"><u><em>NO MOTORCYCLES\, DIRTBIKES\, OR OTHER ATV&#39\;S OF ANY KIND WILL BE ACCEPTED THIS YEAR.</em></u></span><br />\n<span style="color:#000000\;"><u><em>Candy or other items MAY NOT be thrown out to the crowd from any parade entries.</em></u></span></p>\n<span style="font-size:20px\;"><u><a href="https://www.sylacaugachamber.com/wp-content/uploads/2023/09/SCP-2023-Sylacauga-Christmas-Parade-Application-1.pdf"><span style="color:#008000\;"><strong>PARADE ENTRY RULES AND REGULATIONS HERE</strong></span></a></u></span>\n\n<p><br />\n<span style="color: rgb(0\, 0\, 0)\;"><strong>ENTRY FEES :(Non-Refundable)</strong></span><br />\n<span style="color: rgb(0\, 128\, 0)\;"><em>Chamber Member Float Fee: $35</em></span><br />\n<span style="color: rgb(0\, 0\, 0)\;">Non-Float Businesses Advertising Their Company<br />\n(Cars\, Truck\, Golf Cart\, SXS\, UTV\, etc.) $50.00<br />\nFloats (Large and Small) $50.00<br />\nPick-Up Trucks $50.00<br />\nWalkers (Per Unit) $15.00<br />\nTitleholders &amp\; Dignitaries (each)$15.00<br />\nHorses (each)$15.00<br />\n<br />\n<strong>PARADE ROUTE:</strong></span><br />\n<span style="color:#000000\;">Begins at Sylacauga High School<br />\nGoes South on Broadway Avenue<br />\nTurns right on Norton Avenue<br />\nGoes North on Norton Avenue to end at Sylacauga Parks &amp\; Recreation</span></p>\n
LOCATION:Downtown Sylacauga Begins at Sylacauga High School Goes South on Broadway Avenue Turns right on Norton Avenue Goes North on Norton Avenue to end at Sylacauga Parks & Recreation
UID:e.3137.252145
SEQUENCE:3
DTSTAMP:20260420T025153Z
URL:https://members.sylacaugachamber.com/events/details/sylacauga-christmas-parade-252145
END:VEVENT

END:VCALENDAR
