BEGIN:VCALENDAR
VERSION:2.0
PRODID:-//ChamberMaster//Event Calendar 2.0//EN
METHOD:PUBLISH
X-PUBLISHED-TTL:P3D
REFRESH-INTERVAL:P3D
CALSCALE:GREGORIAN
BEGIN:VEVENT
DTSTART:20231126T220000Z
DTEND:20231127T010000Z
X-MICROSOFT-CDO-ALLDAYEVENT:FALSE
SUMMARY:Sylacauga Christmas Tree Lighting
DESCRIPTION:Join us as we light the night and fill Sylacauga with cheer! There will be a variety of activities for children and adults along with a visit from Santa himself! Christmas music will flow through the downtown Sylacauga as you are filled with the Christmas Spirit. There will be visits with Santa\, crafts\, and treats for the kids and adults!  The day will conclude with the lighting of the community Christmas tree.
X-ALT-DESC;FMTTYPE=text/html:<span data-mce-mark="1" style="color: rgb(51\, 51\, 51)\; background-color: rgb(238\, 238\, 238)\; font-family: Abadi\, sans-serif\; font-size: 13.3333px\;">Join us as we light the night and fill Sylacauga with cheer! There will be a variety of activities for children and adults along with a visit from Santa himself!</span><span data-mce-mark="1" style="color: rgb(51\, 51\, 51)\; font-size: 13px\; font-family: &quot\;Trebuchet MS&quot\;\, Tahoma\, &quot\;Nimbus Sans L&quot\;\, sans-serif\; background-color: rgb(238\, 238\, 238)\;">&nbsp\;</span><span data-mce-mark="1" style="color: rgb(51\, 51\, 51)\; background-color: rgb(238\, 238\, 238)\; font-family: Abadi\, sans-serif\; font-size: 13.3333px\;">Christmas music will flow through the downtown Sylacauga as you are filled with the Christmas Spirit.&nbsp\;</span><span data-mce-mark="1" style="color: rgb(51\, 51\, 51)\; background-color: rgb(238\, 238\, 238)\; font-family: Abadi\, sans-serif\; font-size: 13.3333px\;">There will be visits with Santa\, crafts\, and treats for the kids and adults!</span><span data-mce-mark="1" style="color: rgb(51\, 51\, 51)\; font-size: 13px\; font-family: &quot\;Trebuchet MS&quot\;\, Tahoma\, &quot\;Nimbus Sans L&quot\;\, sans-serif\; background-color: rgb(238\, 238\, 238)\;">&nbsp\;&nbsp\;</span><span data-mce-mark="1" style="color: rgb(51\, 51\, 51)\; background-color: rgb(238\, 238\, 238)\; font-family: Abadi\, sans-serif\; font-size: 13.3333px\;">The day will conclude with the lighting of the community Christmas tree.</span>
LOCATION:Downtown Sylacauga
UID:e.3137.252146
SEQUENCE:3
DTSTAMP:20260420T022750Z
URL:https://members.sylacaugachamber.com/events/details/sylacauga-christmas-tree-lighting-252146
END:VEVENT

END:VCALENDAR
