BEGIN:VCALENDAR
VERSION:2.0
PRODID:-//ChamberMaster//Event Calendar 2.0//EN
METHOD:PUBLISH
X-PUBLISHED-TTL:P3D
REFRESH-INTERVAL:P3D
CALSCALE:GREGORIAN
BEGIN:VEVENT
DTSTART:20231108T000000Z
DTEND:20231108T020000Z
X-MICROSOFT-CDO-ALLDAYEVENT:FALSE
SUMMARY:Wine Dinner at Harvey's
DESCRIPTION:Join us for an evening of culinary delights and fine wines at our Prisoner Wine Dinner event! The night kicks off with a reception at 6 p.m.\, followed by a four-course meal curated by our owner\, Denise Chandler\, and expertly paired with wines from The Prisoner Wine Company.  At 6:30 p.m.\, we'll embark on a journey of taste and sophistication that promises to be an unforgettable dining experience. Don't miss out on this perfect fusion of flavors and wines!\n\nTickets are $130 per person ( tax and services included). Our wine dinners always fill quickly. Get your tickets now! \n\nRegister Here https://www.eventbrite.com/e/prisoner-wine-dinner-at-harveys-on-noble-tickets-737514284077?aff=oddtdtcreator
X-ALT-DESC;FMTTYPE=text/html:<p style="color: rgb(36\, 36\, 36)\; font-family: &quot\;Segoe UI&quot\;\, &quot\;Segoe UI Web (West European)&quot\;\, &quot\;Segoe UI&quot\;\, -apple-system\, BlinkMacSystemFont\, Roboto\, &quot\;Helvetica Neue&quot\;\, sans-serif\; font-size: 15px\; background-color: rgb(255\, 255\, 255)\; text-align: center\;">Join us for an evening of culinary delights and fine wines at our&nbsp\;<b>Prisoner Wine Dinner</b>&nbsp\;event! The night kicks off with a&nbsp\;<b>reception at 6 p.m</b>.\, followed by a four-course meal curated by our owner\, Denise Chandler\, and expertly paired with wines from The Prisoner Wine Company.&nbsp\; At 6:30 p.m.\, we&#39\;ll embark on a journey of taste and sophistication that promises to be an unforgettable dining experience. Don&#39\;t miss out on this perfect fusion of flavors and wines!</p>\n\n<p style="color: rgb(36\, 36\, 36)\; font-family: &quot\;Segoe UI&quot\;\, &quot\;Segoe UI Web (West European)&quot\;\, &quot\;Segoe UI&quot\;\, -apple-system\, BlinkMacSystemFont\, Roboto\, &quot\;Helvetica Neue&quot\;\, sans-serif\; font-size: 15px\; background-color: rgb(255\, 255\, 255)\; text-align: center\;">Tickets are $130 per person ( tax and services included). Our wine dinners always fill quickly. Get your tickets now!&nbsp\;<br />\nRegister Here&nbsp\;<a href="https://www.eventbrite.com/e/prisoner-wine-dinner-at-harveys-on-noble-tickets-737514284077?aff=oddtdtcreator">https://www.eventbrite.com/e/prisoner-wine-dinner-at-harveys-on-noble-tickets-737514284077?aff=oddtdtcreator</a></p>\n
LOCATION:
UID:e.3137.252177
SEQUENCE:3
DTSTAMP:20260420T004624Z
URL:https://members.sylacaugachamber.com/events/details/wine-dinner-at-harvey-s-252177
END:VEVENT

END:VCALENDAR
